BEGIN:VCALENDAR
VERSION:2.0
PRODID:-//spiritualcarecoach.com - ECPv6.15.20//NONSGML v1.0//EN
CALSCALE:GREGORIAN
METHOD:PUBLISH
X-ORIGINAL-URL:https://www.spiritualcarecoach.com
X-WR-CALDESC:Events for spiritualcarecoach.com
REFRESH-INTERVAL;VALUE=DURATION:PT1H
X-Robots-Tag:noindex
X-PUBLISHED-TTL:PT1H
BEGIN:VTIMEZONE
TZID:Asia/Karachi
BEGIN:STANDARD
TZOFFSETFROM:+0500
TZOFFSETTO:+0500
TZNAME:PKT
DTSTART:20220101T000000
END:STANDARD
END:VTIMEZONE
BEGIN:VEVENT
DTSTART;TZID=Asia/Karachi:20230827T150000
DTEND;TZID=Asia/Karachi:20230827T180000
DTSTAMP:20260420T115151
CREATED:20230605T205848Z
LAST-MODIFIED:20230616T224045Z
UID:625-1693148400-1693159200@www.spiritualcarecoach.com
SUMMARY:Symposium on Emotional & Spiritual Health in Triangle Community
DESCRIPTION:Save your spot !\n				Register\n			\n				\n				\n				\n				\n				The Hindu Society of North Carolina\, SpiritualCareCoach.com\, and Triangle Area Hindu Temples invite you to join us at \n			\n				\n				\n				\n				\n				4th Symposium on\nEmotional & Spiritual Health\nin the Triangle Community\n			\n				\n				\n				\n				\n				Relationships: Dynamics & Cultural Conflicts:\nAugust 27\, 2023\, 3 pm-6 pm @ HSNC Community Hall\n			\n			\n				\n				\n				\n				\n			\n				\n				\n			\n				\n				\n				\n				\n				\n				\n				\n				\n				\n				\n				\n				\n				\n				\n				\n				\n				\n				\n					\n					\n						Parent & Child Relationship Understanding &Nurturing\n						by Anju Verma  MSW\, LCSWExecutive Director and Founder – DRG Consulting \n					\n				\n			\n				\n				\n				\n				\n				Anju Verma is a Licensed Clinical Social Worker in NC\, and she graduated from UNC-CH with a Master’s degree in Social Work. Anju is the founder and owner of DRG Counseling\, a Behavioral Health Group practice in Raleigh\, NC. DRG Counseling provides outpatient counseling services to individuals of all age groups (children\, adolescents\, and adults) with behavioral health needs.Anju has served on several different executive leadership positions in mental health programs. She also served on NAMI (National Alliance on Mental Illness) Wake County Board Of Directors. Additionally\, Anju also serves as a Surveyor for an International Accreditation Organizationcalled CARF (Commission on Accreditation of Rehabilitation Facilities). The purpose of this Org is to evaluate the quality of services provided by large Behavioral Health and Medical practices and hospitals and provide accreditation to these facilities for their services. \nAnju is very passionate about helping people in making a change and empowering them in doing so. \n			\n			\n				\n				\n				\n				\n			\n				\n				\n			\n				\n				\n				\n				\n				\n				\n				\n				\n				\n				\n				\n				\n				\n				\n				\n				\n				\n				\n					\n					\n						Husband & Wife Relationship:   Love & Respect\n						by Sonia Pasi MDInterventional Pain Specialist and a Neurologist \n					\n				\n			\n				\n				\n				\n				\n				\n\nDr. Pasi is an Interventional Pain Specialist and a Neurologist practicing in Raleigh at Advanced Pain Consultants. Her background in Anesthesiology from India and She then specialized in Neurology at Medical college of Georgia\, anf Pain Medicine fellowship from Duke University. She remained on faculty at Duke University medical center for many years before she started her own practice in Raleigh  She is the founder and CEO of her Medical practice Advanced Pain consultants in Raleigh.She enjoys travelling \, Music\, Painting and Photography.\n\n\n			\n			\n				\n				\n				\n				\n			\n				\n				\n			\n				\n				\n				\n				\n				\n				\n				\n				\n				\n				\n				\n				\n				\n				\n				\n				\n				\n				\n					\n					\n						Self-Harming Behaviors: A choice or Challenge\n						by Haresh Tharwani\, MD\, DFAPA \nAmerican board certified in General Psychiatry\, consultation (body-mind) psychiatry\, and Duke University certified in psychopharmacology. \n					\n				\n			\n				\n				\n				\n				\n				Haresh Tharwani\, MD\, DFAPA\, is the founder\, president\, and chief medical officer of MD Psychiatry & Emotional Health\, PLLC. Dr Tharwani has clinical experience and expertise in psychopharmacology and psychotherapy. \nDr. Tharwani is board-certified in general psychiatry and consultation-liaison psychiatry. With a passion for research and education\, he was a faculty member at Duke University for 19 years\, serving as a senior associate professor and medical director. \nIn 2005\, the American Psychiatric Association named Dr. Tharwani the recipient of the “Best Teacher of the Year” award. He has also won many other awards\, including “Compassionate Doctor Recognition\,” the “On-Time Doctor Award\,” and the “Patient’s Choice Award” on multiple occasions. \n			\n			\n				\n				\n				\n				\n			\n				\n				\n			\n				\n				\n				\n				\n				\n				\n				\n				\n				\n				\n				\n				\n				\n				\n				\n				\n				\n				\n					\n					\n						Role of Spirituality in redefining relationships: Nature & Nurture\n						by Dr. Madhu Sharma PhDExecutive Coach\, life coach\, Author\, Vedic Scholar\, Thought Leader \n					\n				\n			\n				\n				\n				\n				\n				Dr. Madhu Sharma is the founder of SpiritualCareCoach.com \n\nAuthor of two books and multiple publications\nGraduate education at two Big Ten universities\nPh.D. in Hindu Studies from the Hindu University of America.\nTeaching experience at a Big Ten University\,\nCurrently Visiting Scholar at Chinmaya International Foundation\, India.\nSuccessful engineering and business careers at two Fortune 500 companies.\nEntrepreneur: Founder and CEO of International business.\nExperienced Social worker: Volunteer and leading roles in many Social and cultural organizations. \nOffered Hindu prayers to North Carolina Senate in 2019 and 2021 \n Many more life experiences on three continents in five countries 
URL:https://www.spiritualcarecoach.com/event/08272023/
LOCATION:HSNC community Hall\, Morrisville\, NC\, United States
ORGANIZER;CN="Hindu Society Of North Carolina":MAILTO:templeservices@hsnconline.org
END:VEVENT
END:VCALENDAR